BEGIN:VCALENDAR
VERSION:2.0
PRODID:icalendar-ruby
CALSCALE:GREGORIAN
METHOD:PUBLISH
BEGIN:VEVENT
DTSTAMP:20260423T221106Z
UID:8-917013@bartonscreek.org
DTSTART:20261101T150000Z
DTEND:20261101T160000Z
CLASS:PUBLIC
CREATED:20260423T151234
DESCRIPTION:
LAST-MODIFIED:20260423T151234
LOCATION:
SUMMARY:Sunday School
URL;VALUE=URI:https://www.bartonscreek.org/events/sunday-school/2026-11-01
ATTACH;FILENAME=smallgroups-11.jpg;FMTTYPE=image/jpeg:https://dq5pwpg1q8ru0
 .cloudfront.net/2022/03/22/08/10/32/b81d7891-ade6-4fda-9766-55aadd0d3f10/s
 mallgroups-11.jpg
END:VEVENT
END:VCALENDAR
