BEGIN:VCALENDAR
VERSION:2.0
PRODID:icalendar-ruby
CALSCALE:GREGORIAN
METHOD:PUBLISH
BEGIN:VEVENT
DTSTAMP:20260422T003038Z
UID:8-910446@bartonscreek.org
DTSTART:20240602T140000Z
DTEND:20240602T150000Z
CLASS:PUBLIC
CREATED:20260421T192530
DESCRIPTION:
LAST-MODIFIED:20260421T192530
LOCATION:
SUMMARY:Sunday School
URL;VALUE=URI:https://www.bartonscreek.org/events/sunday-school/2024-06-02
ATTACH;FILENAME=smallgroups-11.jpg;FMTTYPE=image/jpeg:https://dq5pwpg1q8ru0
 .cloudfront.net/2022/03/22/08/10/32/b81d7891-ade6-4fda-9766-55aadd0d3f10/s
 mallgroups-11.jpg
END:VEVENT
END:VCALENDAR
