BEGIN:VCALENDAR
VERSION:2.0
PRODID:icalendar-ruby
CALSCALE:GREGORIAN
METHOD:PUBLISH
BEGIN:VEVENT
DTSTAMP:20260423T201424Z
UID:57-916119@bartonscreek.org
DTSTART:20260501T210000Z
DTEND:20260502T000000Z
CLASS:PUBLIC
CREATED:20260423T103647
DESCRIPTION:
LAST-MODIFIED:20260423T103647
LOCATION:Barton's Creek Baptist Church
SUMMARY:Classic Car Cruise In
URL;VALUE=URI:https://www.bartonscreek.org/events/classic-car-cruise-in/202
 6-05-01
ATTACH;FILENAME=BCBC-Mens-Ministry-presents.PNG;FMTTYPE=image/png:https://d
 q5pwpg1q8ru0.cloudfront.net/2026/04/23/15/36/47/20842b27-6ba0-4d43-a6c6-34
 e2c4a987de/BCBC-Mens-Ministry-presents.PNG
END:VEVENT
END:VCALENDAR
